BEGIN:VCALENDAR
PRODID:-//kirchenweb.ch gmbh//veranstaltungsausgabe v2.0//DE
VERSION:2.0
METHOD:PUBLISH
BEGIN:VEVENT
DTSTART:20260121T111500Z
DTEND:20260121T153000Z
LOCATION:Gemeinschaftszentrum Zumikon\, Dorfplatz 11\, 8126 Zumikon
TRANSP:OPAQUE
SEQUENCE:0
UID:64884-veranstaltung@ref-zozu.ch
DTSTAMP:20260105T143930Z
DESCRIPTION:Kontakt: Fiona Kauer\n\nWeitere Infos:
  https://www.ref-zozu.ch/veranstaltung/64884
SUMMARY:JuKi 7 Modul 3 blinde Kuh
PRIORITY:5
X-MICROSOFT-CDO-IMPORTANCE:1
CLASS:PUBLIC
END:VEVENT
END:VCALENDAR
