BEGIN:VCALENDAR
PRODID:-//kirchenweb.ch gmbh//veranstaltungsausgabe v2.0//DE
VERSION:2.0
METHOD:PUBLISH
BEGIN:VEVENT
DTSTART:20251210T150000Z
DTEND:20251210T194500Z
LOCATION:Kirchgemeindehaus Zollikerberg\, Hohfurenstr. 1\, 8125
  Zollikerberg
TRANSP:OPAQUE
SEQUENCE:0
UID:64885-veranstaltung@ref-zozu.ch
DTSTAMP:20251009T131811Z
DESCRIPTION:Kontakt: Fiona Kauer\n\nWeitere Infos:
  https://www.ref-zozu.ch/veranstaltung/64885
SUMMARY:JuKi Modul 2 Rega
PRIORITY:5
X-MICROSOFT-CDO-IMPORTANCE:1
CLASS:PUBLIC
END:VEVENT
END:VCALENDAR
