BEGIN:VCALENDAR
PRODID:-//kirchenweb.ch gmbh//veranstaltungsausgabe v2.0//DE
VERSION:2.0
METHOD:PUBLISH
BEGIN:VEVENT
DTSTART:20251121T183000Z
DTEND:20251121T203100Z
LOCATION:Kirche Zollikerberg\, Hohfurenstr. 1\, 8125 Zollikerberg
TRANSP:OPAQUE
SEQUENCE:0
UID:64887-veranstaltung@ref-zozu.ch
DTSTAMP:20251015T054956Z
DESCRIPTION:Kontakt: Fiona Kauer\nMartin Günthardt\n\nWeitere Infos:
  https://www.ref-zozu.ch/veranstaltung/64887
SUMMARY:Jugendgottesdienst "Wiitblick"
PRIORITY:5
X-MICROSOFT-CDO-IMPORTANCE:1
CLASS:PUBLIC
END:VEVENT
END:VCALENDAR
