BEGIN:VCALENDAR
PRODID:-//kirchenweb.ch gmbh//veranstaltungsausgabe v2.0//DE
VERSION:2.0
METHOD:PUBLISH
BEGIN:VEVENT
DTSTART:20260116T183000Z
DTEND:20260116T203300Z
LOCATION:Kirche Zollikerberg\, Hohfurenstr. 1\, 8125 Zollikerberg
TRANSP:OPAQUE
SEQUENCE:0
UID:64889-veranstaltung@ref-zozu.ch
DTSTAMP:20251211T141312Z
DESCRIPTION:Kontakt: Fiona Kauer\nMartin Günthardt\n\nWeitere Infos:
  https://www.ref-zozu.ch/veranstaltung/64889
SUMMARY:Jugendgottesdienst «Wiitblick»
PRIORITY:5
X-MICROSOFT-CDO-IMPORTANCE:1
CLASS:PUBLIC
END:VEVENT
END:VCALENDAR
