BEGIN:VCALENDAR
PRODID:-//kirchenweb.ch gmbh//veranstaltungsausgabe v2.0//DE
VERSION:2.0
METHOD:PUBLISH
BEGIN:VEVENT
DTSTART:20260522T173000Z
DTEND:20260522T193600Z
LOCATION:Kirche Zollikon\, Rösslirain 2\, 8702 Zollikon
TRANSP:OPAQUE
SEQUENCE:0
UID:64892-veranstaltung@ref-zozu.ch
DTSTAMP:20260424T092753Z
DESCRIPTION:Kontakt: Fiona Kauer\nMartin Günthardt\n\nWeitere Infos:
  https://www.ref-zozu.ch/veranstaltung/64892
SUMMARY:Jugendgottesdienst "Wiitblick"
PRIORITY:5
X-MICROSOFT-CDO-IMPORTANCE:1
CLASS:PUBLIC
END:VEVENT
END:VCALENDAR
