BEGIN:VCALENDAR
PRODID:-//kirchenweb.ch gmbh//veranstaltungsausgabe v2.0//DE
VERSION:2.0
METHOD:PUBLISH
BEGIN:VEVENT
DTSTART:20260108T183000Z
DTEND:20260108T200000Z
LOCATION:Café am Puls Zollikerberg\, Hohfurenstrasse 1\, 8125
  Zollikerberg
TRANSP:OPAQUE
SEQUENCE:0
UID:64968-veranstaltung@ref-zozu.ch
DTSTAMP:20260105T131352Z
DESCRIPTION:Bruno Heller\, Leiter des Zolliker Ortsmuseums\n\n19:00 Uhr :
  Bar offen\n19:30 bis 20:30 Uhr Talk\ndanach Bar offen\n\nKontakt: Simon
  Gebs\n\nWeitere Infos: https://www.ref-zozu.ch/veranstaltung/64968
SUMMARY:Talk am Puls mit Bruno Heller
PRIORITY:5
X-MICROSOFT-CDO-IMPORTANCE:1
CLASS:PUBLIC
END:VEVENT
END:VCALENDAR
