BEGIN:VCALENDAR
PRODID:-//kirchenweb.ch gmbh//veranstaltungsausgabe v2.0//DE
VERSION:2.0
METHOD:PUBLISH
BEGIN:VEVENT
DTSTART:20260409T173000Z
DTEND:20260409T190000Z
LOCATION:Café am Puls Zollikerberg\, Hohfurenstrasse 1\, 8125
  Zollikerberg
TRANSP:OPAQUE
SEQUENCE:0
UID:64971-veranstaltung@ref-zozu.ch
DTSTAMP:20260309T061248Z
DESCRIPTION:Was sind die Vorteile des vegetarischen Essens? Reichen zwei
  Liter Flüssigkeit pro Tag? Führt Intervallfasten zum Idealgewicht? Die
  Ernährung beschäftigt uns mehr als vieles andere\, schliesslich wollen
  wir alle gesund\, schön und fit sein. Eva Maiwald\,
  Ernährungsspezialistin aus Zollikon\, hat das Thema zu ihrem Beruf
  gemacht.\nAm 9. April wird sie unser Gast im Talk am Puls im Zollikerberg
  sein.\n\nBarbara Lukesch (ZollikerNews) freut sich auf ein spannendes
  Gespräch; René Staubli\, Mitherausgeber von ZollikerNews\,\nführt für
  einmal durch den Abend.\n\n19:00 Uhr : Bar offen\n19:30 bis 20:30 Uhr
  Talk\ndanach Bar offen\n\nKontakt: Simon Gebs\n\nWeitere Infos:
  https://www.ref-zozu.ch/veranstaltung/64971
SUMMARY:Talk am Puls mit Eva Maiwald
PRIORITY:5
X-MICROSOFT-CDO-IMPORTANCE:1
CLASS:PUBLIC
END:VEVENT
END:VCALENDAR
