BEGIN:VCALENDAR
PRODID:-//kirchenweb.ch gmbh//veranstaltungsausgabe v2.0//DE
VERSION:2.0
METHOD:PUBLISH
BEGIN:VEVENT
DTSTART:20260507T173000Z
DTEND:20260507T190000Z
LOCATION:Café am Puls Zollikerberg\, Hohfurenstrasse 1\, 8125
  Zollikerberg
TRANSP:OPAQUE
SEQUENCE:0
UID:64972-veranstaltung@ref-zozu.ch
DTSTAMP:20260424T085511Z
DESCRIPTION:Im letzten Talk am Puls vor der Sommerpause begrüssen Barbara
  Lukesch (ZollikerNews.ch) und Pfarrer Simon Gebs die Zollikerin Brigit
  Belser als Gast.\n&nbsp;\n19:00 Uhr : Bar offen\n19:30 bis 20:30 Uhr Talk
 \ndanach Bar offen\n\nKontakt: Simon Gebs\n\nWeitere Infos:
  https://www.ref-zozu.ch/veranstaltung/64972
SUMMARY:Talk am Puls mit Brigit Belser
PRIORITY:5
X-MICROSOFT-CDO-IMPORTANCE:1
CLASS:PUBLIC
END:VEVENT
END:VCALENDAR
