BEGIN:VCALENDAR
PRODID:-//kirchenweb.ch gmbh//veranstaltungsausgabe v2.0//DE
VERSION:2.0
METHOD:PUBLISH
BEGIN:VEVENT
DTSTART:20260916T180000Z
DTEND:20260916T190000Z
LOCATION:Kirche Zumikon\, Unterdorfstrasse 4\, 8126 Zumikon
TRANSP:OPAQUE
SEQUENCE:0
UID:64992-veranstaltung@ref-zozu.ch
DTSTAMP:20250606T092414Z
DESCRIPTION:Kontakt: Adelheid Jewanski\n\nWeitere Infos:
  https://www.ref-zozu.ch/veranstaltung/64992
SUMMARY:Meditation am Mittwoch
PRIORITY:5
X-MICROSOFT-CDO-IMPORTANCE:1
CLASS:PUBLIC
END:VEVENT
END:VCALENDAR
