BEGIN:VCALENDAR
PRODID:-//kirchenweb.ch gmbh//veranstaltungsausgabe v2.0//DE
VERSION:2.0
METHOD:PUBLISH
BEGIN:VEVENT
DTSTART:20260105T130000Z
DTEND:20260105T150000Z
LOCATION:Kirchgemeindehaus Zollikerberg\, Hohfurenstr. 1\, 8125
  Zollikerberg
TRANSP:OPAQUE
SEQUENCE:0
UID:65037-veranstaltung@ref-zozu.ch
DTSTAMP:20251217T130129Z
DESCRIPTION:Kontakt: Jasmine Vollmer\n\nWeitere Infos:
  https://www.ref-zozu.ch/veranstaltung/65037
SUMMARY:Sing-Café
PRIORITY:5
X-MICROSOFT-CDO-IMPORTANCE:1
CLASS:PUBLIC
END:VEVENT
END:VCALENDAR
