BEGIN:VCALENDAR
PRODID:-//kirchenweb.ch gmbh//veranstaltungsausgabe v2.0//DE
VERSION:2.0
METHOD:PUBLISH
BEGIN:VEVENT
DTSTART:20260319T133000Z
DTEND:20260319T160000Z
LOCATION:Kirchgemeindehaus Zollikon\, Rösslirain 2\, 8702 Zollikon
TRANSP:OPAQUE
SEQUENCE:0
UID:65060-veranstaltung@ref-zozu.ch
DTSTAMP:20260211T142138Z
DESCRIPTION:Kontakt: Peter Lissa\n\nWeitere Infos:
  https://www.ref-zozu.ch/veranstaltung/65060
SUMMARY:60plus Nachmittag - Schmetterlinge
PRIORITY:5
X-MICROSOFT-CDO-IMPORTANCE:1
CLASS:PUBLIC
END:VEVENT
END:VCALENDAR
