BEGIN:VCALENDAR
PRODID:-//kirchenweb.ch gmbh//veranstaltungsausgabe v2.0//DE
VERSION:2.0
METHOD:PUBLISH
BEGIN:VEVENT
DTSTART:20260924T123000Z
DTEND:20260924T150000Z
LOCATION:Kirchgemeindehaus Zollikon\, Rösslirain 2\, 8702 Zollikon
TRANSP:OPAQUE
SEQUENCE:0
UID:65062-veranstaltung@ref-zozu.ch
DTSTAMP:20251114T122003Z
DESCRIPTION:Kontakt: Peter Lissa\n\nWeitere Infos:
  https://www.ref-zozu.ch/veranstaltung/65062
SUMMARY:60plus Nachmittag - Ökumenisch\, Nostalgiechor Zug
PRIORITY:5
X-MICROSOFT-CDO-IMPORTANCE:1
CLASS:PUBLIC
END:VEVENT
END:VCALENDAR
