BEGIN:VCALENDAR
PRODID:-//kirchenweb.ch gmbh//veranstaltungsausgabe v2.0//DE
VERSION:2.0
METHOD:PUBLISH
BEGIN:VEVENT
DTSTART:20261210T133000Z
DTEND:20261210T160000Z
LOCATION:Gemeinschaftszentrum Zumikon\, Dorfplatz 11\, 8126 Zumikon
TRANSP:OPAQUE
SEQUENCE:0
UID:65064-veranstaltung@ref-zozu.ch
DTSTAMP:20260227T151004Z
DESCRIPTION:Kontakt: Armanda Danioth\n\nWeitere Infos:
  https://www.ref-zozu.ch/veranstaltung/65064
SUMMARY:60plus Nachmittag - Adventsfeier Zumikon
PRIORITY:5
X-MICROSOFT-CDO-IMPORTANCE:1
CLASS:PUBLIC
END:VEVENT
END:VCALENDAR
