BEGIN:VCALENDAR
PRODID:-//kirchenweb.ch gmbh//veranstaltungsausgabe v2.0//DE
VERSION:2.0
METHOD:PUBLISH
BEGIN:VEVENT
DTSTART:20260315T133000Z
DTEND:20260315T150000Z
LOCATION:Kirchgemeindehaus Zollikon\, Rösslirain 2\, 8702 Zollikon
TRANSP:OPAQUE
SEQUENCE:0
UID:65079-veranstaltung@ref-zozu.ch
DTSTAMP:20260120T082134Z
DESCRIPTION:Die kleine\, freche Sammy hat einen fröhlichen Musik-Zirkus.
  Für diesen bereitet sie halbjährlich eine nigelnagelneue Vorstellung
  mit unterschiedlichen Instrument vor.\n&nbsp;\nAuf Wunsch der Kinder\,
  ist es dieses Mal: ohhh.. die Posaune.\nFreut euch zusammen mit Sammy auf
  ein neuerliches unterhaltsames Casting und hoffentlich auf eine gelungene
  Vorstellung\, mit viel Musik –zum Mitmachen und Mitsingen.\n\n
 \nKontakt: Jasmine Vollmer\n\nWeitere Infos:
  https://www.ref-zozu.ch/veranstaltung/65079
SUMMARY:Kinder- und Familien-Konzert «Oh die Posaune»
PRIORITY:5
X-MICROSOFT-CDO-IMPORTANCE:1
CLASS:PUBLIC
END:VEVENT
END:VCALENDAR
