BEGIN:VCALENDAR
PRODID:-//kirchenweb.ch gmbh//veranstaltungsausgabe v2.0//DE
VERSION:2.0
METHOD:PUBLISH
BEGIN:VEVENT
DTSTART:20260515T120000Z
DTEND:20260515T150000Z
LOCATION:Kirchgemeindehaus Zollikon\, Rösslirain 2\, 8702 Zollikon
TRANSP:OPAQUE
SEQUENCE:0
UID:65096-veranstaltung@ref-zozu.ch
DTSTAMP:20250618T161348Z
DESCRIPTION:Kontakt: Alexander Spaar\nalex.spaar@bluewin.ch\nTel: 044 342
  42 57 / 079 663 41 25\n\nWeitere Infos:
  https://www.ref-zozu.ch/veranstaltung/65096
SUMMARY:Line Dance
PRIORITY:5
X-MICROSOFT-CDO-IMPORTANCE:1
CLASS:PUBLIC
END:VEVENT
END:VCALENDAR
