BEGIN:VCALENDAR
PRODID:-//kirchenweb.ch gmbh//veranstaltungsausgabe v2.0//DE
VERSION:2.0
METHOD:PUBLISH
BEGIN:VEVENT
DTSTART:20251212T180000Z
DTEND:20251212T193000Z
LOCATION:Kirche Zollikerberg\, Hohfurenstr. 1\, 8125 Zollikerberg
TRANSP:OPAQUE
SEQUENCE:0
UID:65121-veranstaltung@ref-zozu.ch
DTSTAMP:20250910T144825Z
DESCRIPTION:Kontakt: Diana Päpcke\n\nWeitere Infos:
  https://www.ref-zozu.ch/veranstaltung/65121
SUMMARY:Singen im Advent
PRIORITY:5
X-MICROSOFT-CDO-IMPORTANCE:1
CLASS:PUBLIC
END:VEVENT
END:VCALENDAR
