BEGIN:VCALENDAR
PRODID:-//kirchenweb.ch gmbh//veranstaltungsausgabe v2.0//DE
VERSION:2.0
METHOD:PUBLISH
BEGIN:VEVENT
DTSTART:20260226T170000Z
DTEND:20260226T180000Z
LOCATION:Kirche Zumikon\, Unterdorfstrasse 4\, 8126 Zumikon
TRANSP:OPAQUE
SEQUENCE:0
UID:65130-veranstaltung@ref-zozu.ch
DTSTAMP:20260209T100317Z
DESCRIPTION:Luca Borioli (Marimba) und Jasmine Vollmer (Harfe)\n\nKontakt:
  Jasmine Vollmer\n\nWeitere Infos:
  https://www.ref-zozu.ch/veranstaltung/65130
SUMMARY:Feierabend-Musik "Marimbaphon & Harfe"
PRIORITY:5
X-MICROSOFT-CDO-IMPORTANCE:1
CLASS:PUBLIC
END:VEVENT
END:VCALENDAR
