BEGIN:VCALENDAR
PRODID:-//kirchenweb.ch gmbh//veranstaltungsausgabe v2.0//DE
VERSION:2.0
METHOD:PUBLISH
BEGIN:VEVENT
DTSTART:20260329T150000Z
DTEND:20260329T163000Z
LOCATION:Kirche Zollikon\, Rösslirain 2\, 8702 Zollikon
TRANSP:OPAQUE
SEQUENCE:0
UID:65148-veranstaltung@ref-zozu.ch
DTSTAMP:20260309T063013Z
DESCRIPTION:Pater Alberik Zwyssig hat nicht nur den Schweizerpsalm
  komponiert\, sondern auch romantische Lieder für Singstimme\, Melodie-
  und Begleitinstrument. \nErtönen werden am diesjährigen
  Palmsonntagskonzert in der Besetzung Sopran (Muriel Schwarz)\, Klarinette
  (Fabio di Casola) und Harfe (Jasmine Vollmer) mehrere Lieder aus seiner
  Feder\, so das titelgebende «Glaube\, Hoffnung\, Liebe»\,
  «Vollendung» und «Sursum Corda»\, ebenso wie einige der «Deutschen
  Lieder» von Louis Spohr wie das «Sei still mein Herz»\, Schuberts
  «Der Hirt auf dem Felsen» und das «Das Mühlrad» von Con-radin
  Kreutzer\, alles Kompositionen für Singstimme\, Klarinette und
  Begleitung. \nEinige Solostücke für Klarinette und Harfe runden das
  hoffnungsvolle Programm am lichtverheissenden Feiertag in der
  Passionszeit ab. \n\n\nKontakt: Jasmine Vollmer\n\nWeitere Infos:
  https://www.ref-zozu.ch/veranstaltung/65148
SUMMARY:Palmsonntagskonzert «Glaube\, Hoffnung\, Liebe»
PRIORITY:5
X-MICROSOFT-CDO-IMPORTANCE:1
CLASS:PUBLIC
END:VEVENT
END:VCALENDAR
