BEGIN:VCALENDAR
PRODID:-//kirchenweb.ch gmbh//veranstaltungsausgabe v2.0//DE
VERSION:2.0
METHOD:PUBLISH
BEGIN:VEVENT
DTSTART:20261204T180000Z
DTEND:20261204T193000Z
LOCATION:Kirche Zollikerberg\, Hohfurenstr. 1\, 8125 Zollikerberg
TRANSP:OPAQUE
SEQUENCE:0
UID:65154-veranstaltung@ref-zozu.ch
DTSTAMP:20260408T144011Z
DESCRIPTION:Kontakt: Jasmine Vollmer\n\nWeitere Infos:
  https://www.ref-zozu.ch/veranstaltung/65154
SUMMARY:Advents-Konzert-Chorprojekt 2026
PRIORITY:5
X-MICROSOFT-CDO-IMPORTANCE:1
CLASS:PUBLIC
END:VEVENT
END:VCALENDAR
