BEGIN:VCALENDAR
PRODID:-//kirchenweb.ch gmbh//veranstaltungsausgabe v2.0//DE
VERSION:2.0
METHOD:PUBLISH
BEGIN:VEVENT
DTSTART:20261121T093000Z
DTEND:20261121T103000Z
LOCATION:Kirche Zollikon\, Rösslirain 2\, 8702 Zollikon
TRANSP:OPAQUE
SEQUENCE:0
UID:65175-veranstaltung@ref-zozu.ch
DTSTAMP:20250623T120738Z
DESCRIPTION:Kontakt: Pfarrerin Diana Päpcke\nDiana Päpcke\n\nWeitere
  Infos: https://www.ref-zozu.ch/veranstaltung/65175
SUMMARY:Fiire mit de Chliine
PRIORITY:5
X-MICROSOFT-CDO-IMPORTANCE:1
CLASS:PUBLIC
END:VEVENT
END:VCALENDAR
