BEGIN:VCALENDAR
PRODID:-//kirchenweb.ch gmbh//veranstaltungsausgabe v2.0//DE
VERSION:2.0
METHOD:PUBLISH
BEGIN:VEVENT
DTSTART:20261205T093000Z
DTEND:20261205T100000Z
LOCATION:Kirche Zollikon\, Rösslirain 2\, 8702 Zollikon
TRANSP:OPAQUE
SEQUENCE:0
UID:65176-veranstaltung@ref-zozu.ch
DTSTAMP:20260107T140726Z
DESCRIPTION:Kontakt: Pfarrerin Diana Päpcke\nDiana Päpcke\n\nWeitere
  Infos: https://www.ref-zozu.ch/veranstaltung/65176
SUMMARY:Fiire mit de Chliine
PRIORITY:5
X-MICROSOFT-CDO-IMPORTANCE:1
CLASS:PUBLIC
END:VEVENT
END:VCALENDAR
