BEGIN:VCALENDAR
PRODID:-//kirchenweb.ch gmbh//veranstaltungsausgabe v2.0//DE
VERSION:2.0
METHOD:PUBLISH
BEGIN:VEVENT
DTSTART:20260117T093000Z
DTEND:20260117T103000Z
LOCATION:Kirche Zollikerberg\, Hohfurenstr. 1\, 8125 Zollikerberg
TRANSP:OPAQUE
SEQUENCE:0
UID:65177-veranstaltung@ref-zozu.ch
DTSTAMP:20251210T122216Z
DESCRIPTION:Kontakt: Diana Päpcke\n\nWeitere Infos:
  https://www.ref-zozu.ch/veranstaltung/65177
SUMMARY:Fiire mit de Chliine und "Rückblick Familienweekend 2025"
PRIORITY:5
X-MICROSOFT-CDO-IMPORTANCE:1
CLASS:PUBLIC
END:VEVENT
END:VCALENDAR
