BEGIN:VCALENDAR
PRODID:-//kirchenweb.ch gmbh//veranstaltungsausgabe v2.0//DE
VERSION:2.0
METHOD:PUBLISH
BEGIN:VEVENT
DTSTART:20260930T123000Z
DTEND:20260930T140000Z
LOCATION:Gemeinschaftszentrum Zumikon\, Dorfplatz 11\, 8126 Zumikon
TRANSP:OPAQUE
SEQUENCE:0
UID:65210-veranstaltung@ref-zozu.ch
DTSTAMP:20250625T125917Z
DESCRIPTION:Kontakt: Armanda Danioth\n\nWeitere Infos:
  https://www.ref-zozu.ch/veranstaltung/65210
SUMMARY:Hab ein Lied auf den Lippen
PRIORITY:5
X-MICROSOFT-CDO-IMPORTANCE:1
CLASS:PUBLIC
END:VEVENT
END:VCALENDAR
