BEGIN:VCALENDAR
PRODID:-//kirchenweb.ch gmbh//veranstaltungsausgabe v2.0//DE
VERSION:2.0
METHOD:PUBLISH
BEGIN:VEVENT
DTSTART:20260507T123000Z
DTEND:20260507T150000Z
LOCATION:Kirchgemeindehaus Zollikon\, Rösslirain 2\, 8702 Zollikon
TRANSP:OPAQUE
SEQUENCE:0
UID:65213-veranstaltung@ref-zozu.ch
DTSTAMP:20260424T085306Z
DESCRIPTION:Kontakt: Peter Lissa\n\nWeitere Infos:
  https://www.ref-zozu.ch/veranstaltung/65213
SUMMARY:60plus Nachmittag - Vergesslichkeit oder Demenz
PRIORITY:5
X-MICROSOFT-CDO-IMPORTANCE:1
CLASS:PUBLIC
END:VEVENT
END:VCALENDAR
