BEGIN:VCALENDAR
PRODID:-//kirchenweb.ch gmbh//veranstaltungsausgabe v2.0//DE
VERSION:2.0
METHOD:PUBLISH
BEGIN:VEVENT
DTSTART:20260820T123000Z
DTEND:20260820T150000Z
LOCATION:Extern\, \,
TRANSP:OPAQUE
SEQUENCE:0
UID:65215-veranstaltung@ref-zozu.ch
DTSTAMP:20251009T140059Z
DESCRIPTION:Kontakt: Peter Lissa\n\nWeitere Infos:
  https://www.ref-zozu.ch/veranstaltung/65215
SUMMARY:60plus Ausflug
PRIORITY:5
X-MICROSOFT-CDO-IMPORTANCE:1
CLASS:PUBLIC
END:VEVENT
END:VCALENDAR
