BEGIN:VCALENDAR
PRODID:-//kirchenweb.ch gmbh//veranstaltungsausgabe v2.0//DE
VERSION:2.0
METHOD:PUBLISH
BEGIN:VEVENT
DTSTART:20251217T133000Z
DTEND:20251217T153000Z
LOCATION:Kirchgemeindehaus Zollikerberg\, Hohfurenstr. 1\, 8125
  Zollikerberg
TRANSP:OPAQUE
SEQUENCE:0
UID:65313-veranstaltung@ref-zozu.ch
DTSTAMP:20251215T064337Z
DESCRIPTION:Kontakt: Jennifer Rota und Karin Schäpper\n\nWeitere Infos:
  https://www.ref-zozu.ch/veranstaltung/65313
SUMMARY:Weihnachtsbasteln des Atelier mit de Chliine
PRIORITY:5
X-MICROSOFT-CDO-IMPORTANCE:1
CLASS:PUBLIC
END:VEVENT
END:VCALENDAR
