BEGIN:VCALENDAR
PRODID:-//kirchenweb.ch gmbh//veranstaltungsausgabe v2.0//DE
VERSION:2.0
METHOD:PUBLISH
BEGIN:VEVENT
DTSTART:20261024T100000Z
DTEND:20261024T110000Z
LOCATION:Kirche Zollikon\, Rösslirain 2\, 8702 Zollikon
TRANSP:OPAQUE
SEQUENCE:0
UID:65362-veranstaltung@ref-zozu.ch
DTSTAMP:20251205T142754Z
DESCRIPTION:Kontakt: Simon Gebs\n\nWeitere Infos:
  https://www.ref-zozu.ch/veranstaltung/65362
SUMMARY:Tauftermin
PRIORITY:5
X-MICROSOFT-CDO-IMPORTANCE:1
CLASS:PUBLIC
END:VEVENT
END:VCALENDAR
