BEGIN:VCALENDAR
PRODID:-//kirchenweb.ch gmbh//veranstaltungsausgabe v2.0//DE
VERSION:2.0
METHOD:PUBLISH
BEGIN:VEVENT
DTSTART:20260606T090000Z
DTEND:20260606T100000Z
LOCATION:Kirche Zumikon\, Unterdorfstrasse 4\, 8126 Zumikon
TRANSP:OPAQUE
SEQUENCE:0
UID:65366-veranstaltung@ref-zozu.ch
DTSTAMP:20260204T143845Z
DESCRIPTION:Taufe am Brunnen möglich\n\nKontakt: Adelheid Jewanski\n
 \nWeitere Infos: https://www.ref-zozu.ch/veranstaltung/65366
SUMMARY:Tauftermin
PRIORITY:5
X-MICROSOFT-CDO-IMPORTANCE:1
CLASS:PUBLIC
END:VEVENT
END:VCALENDAR
