BEGIN:VCALENDAR
PRODID:-//kirchenweb.ch gmbh//veranstaltungsausgabe v2.0//DE
VERSION:2.0
METHOD:PUBLISH
BEGIN:VEVENT
DTSTART:20260621T081500Z
DTEND:20260621T091500Z
LOCATION:Kirche Zumikon\, Unterdorfstrasse 4\, 8126 Zumikon
TRANSP:OPAQUE
SEQUENCE:0
UID:65371-veranstaltung@ref-zozu.ch
DTSTAMP:20251210T095511Z
DESCRIPTION:Kontakt: Adelheid Jewanski\n\nWeitere Infos:
  https://www.ref-zozu.ch/veranstaltung/65371
SUMMARY:Tauftermin
PRIORITY:5
X-MICROSOFT-CDO-IMPORTANCE:1
CLASS:PUBLIC
END:VEVENT
END:VCALENDAR
