BEGIN:VCALENDAR
PRODID:-//kirchenweb.ch gmbh//veranstaltungsausgabe v2.0//DE
VERSION:2.0
METHOD:PUBLISH
BEGIN:VEVENT
DTSTART:20260514T083000Z
DTEND:20260514T100000Z
LOCATION:Kapelle Diakoniewerk Zollikerberg\, Neuweg 16\, 8125 Zollikerberg
TRANSP:OPAQUE
SEQUENCE:0
UID:65372-veranstaltung@ref-zozu.ch
DTSTAMP:20250714T110601Z
DESCRIPTION:Kontakt: Simon Gebs\n\nWeitere Infos:
  https://www.ref-zozu.ch/veranstaltung/65372
SUMMARY:Tauftermin
PRIORITY:5
X-MICROSOFT-CDO-IMPORTANCE:1
CLASS:PUBLIC
END:VEVENT
END:VCALENDAR
