BEGIN:VCALENDAR
PRODID:-//kirchenweb.ch gmbh//veranstaltungsausgabe v2.0//DE
VERSION:2.0
METHOD:PUBLISH
BEGIN:VEVENT
DTSTART:20260822T090000Z
DTEND:20260822T100000Z
LOCATION:Kirche Zollikerberg\, Hohfurenstr. 1\, 8125 Zollikerberg
TRANSP:OPAQUE
SEQUENCE:0
UID:65375-veranstaltung@ref-zozu.ch
DTSTAMP:20250814T072124Z
DESCRIPTION:Taufe am Brunnen möglich.\n\nKontakt: Diana Päpcke\n
 \nWeitere Infos: https://www.ref-zozu.ch/veranstaltung/65375
SUMMARY:Tauftermin
PRIORITY:5
X-MICROSOFT-CDO-IMPORTANCE:1
CLASS:PUBLIC
END:VEVENT
END:VCALENDAR
