BEGIN:VCALENDAR
PRODID:-//kirchenweb.ch gmbh//veranstaltungsausgabe v2.0//DE
VERSION:2.0
METHOD:PUBLISH
BEGIN:VEVENT
DTSTART:20260928T113000Z
DTEND:20260928T150000Z
LOCATION:Gemeinschaftszentrum Zumikon\, Dorfplatz 11\, 8126 Zumikon
TRANSP:OPAQUE
SEQUENCE:0
UID:65443-veranstaltung@ref-zozu.ch
DTSTAMP:20250926T093944Z
DESCRIPTION:Kontakt: Armanda Danioth\n\nWeitere Infos:
  https://www.ref-zozu.ch/veranstaltung/65443
SUMMARY:Jassgruppe
PRIORITY:5
X-MICROSOFT-CDO-IMPORTANCE:1
CLASS:PUBLIC
END:VEVENT
END:VCALENDAR
