BEGIN:VCALENDAR
PRODID:-//kirchenweb.ch gmbh//veranstaltungsausgabe v2.0//DE
VERSION:2.0
METHOD:PUBLISH
BEGIN:VEVENT
DTSTART:20260108T080000Z
DTEND:20260108T100000Z
LOCATION:Kirche Zollikerberg\, Hohfurenstr. 1\, 8125 Zollikerberg
TRANSP:OPAQUE
SEQUENCE:0
UID:65482-veranstaltung@ref-zozu.ch
DTSTAMP:20250717T145332Z
DESCRIPTION:Freie Wahl ob erste oder zweite Gruppe.\n9.00 Singe mit de
  Chliine Gruppe 1\n9.45 Singe mit de Chliine Gruppe 2\nGeselliges
  Beisammensein für alle im Café am Puls\nAlle Kinder von 0 bis 5 sind
  willkommen.\n\nAuf Ihre Teilnahme freut sich:\nJasmine Vollmer\,
  jasmine.vollmer@ref-zozu.ch\n\n\nKontakt: Jasmine Vollmer\n\nWeitere
  Infos: https://www.ref-zozu.ch/veranstaltung/65482
SUMMARY:Singe mit de Chliine
PRIORITY:5
X-MICROSOFT-CDO-IMPORTANCE:1
CLASS:PUBLIC
END:VEVENT
END:VCALENDAR
