BEGIN:VCALENDAR
PRODID:-//kirchenweb.ch gmbh//veranstaltungsausgabe v2.0//DE
VERSION:2.0
METHOD:PUBLISH
BEGIN:VEVENT
DTSTART:20261210T075500Z
DTEND:20261210T100000Z
LOCATION:Kirche Zollikerberg\, Hohfurenstr. 1\, 8125 Zollikerberg
TRANSP:OPAQUE
SEQUENCE:0
UID:65518-veranstaltung@ref-zozu.ch
DTSTAMP:20260114T135100Z
DESCRIPTION:Freie Wahl ob erste\, zweite oder dritte Gruppe.\n08.55 Uhr
  Singe mit de Chliine Gruppe 1\n09.30 Uhr Singe mit de Chliine Gruppe 2
 \n10.05 Uhr Singe mit de Chliine Gruppe 3\nGeselliges Beisammensein für
  alle im Café am Puls\nAlle Kinder von 0 bis 5 sind willkommen.\n\nAuf
  Ihre Teilnahme freut sich:\nJasmine Vollmer\, jasmine.vollmer@ref-zozu.ch
 \n\n\nKontakt: Jasmine Vollmer\n\nWeitere Infos:
  https://www.ref-zozu.ch/veranstaltung/65518
SUMMARY:Singe mit de Chliine
PRIORITY:5
X-MICROSOFT-CDO-IMPORTANCE:1
CLASS:PUBLIC
END:VEVENT
END:VCALENDAR
