BEGIN:VCALENDAR
PRODID:-//kirchenweb.ch gmbh//veranstaltungsausgabe v2.0//DE
VERSION:2.0
METHOD:PUBLISH
BEGIN:VEVENT
DTSTART:20260818T093000Z
DTEND:20260818T143000Z
LOCATION:Kirchgemeindehaus Zollikerberg\, Hohfurenstr. 1\, 8125
  Zollikerberg
TRANSP:OPAQUE
SEQUENCE:0
UID:65678-veranstaltung@ref-zozu.ch
DTSTAMP:20250814T035837Z
DESCRIPTION:Nur mit Anmeldung\, Treffpunkt 11.30 Uhr im Vereinszimmer\, im
  unteren Stock.\n&nbsp;\nKosten pro Treffen CHF 50.-- (die ursprünglichen
  Kosten von 75.- werden mit einem Beitrag von 25.- durch Die Paulie und
  Fridolin Düblin Stiftung: Alzheimer Zürich unterstützt)\n&nbsp;\nDas
  gemeinsame Mittagessen findet im Cafe am Puls statt (ausser während den
  Schulferien) die Kosten dafür werden von den Teilnehmenden direkt
  bezahlt.\n\nKontakt: Madeleine Giger-Gafner\nTel: 079 632 30 09\n
 \nWeitere Infos: https://www.ref-zozu.ch/veranstaltung/65678
SUMMARY:Gipfeltreffen
PRIORITY:5
X-MICROSOFT-CDO-IMPORTANCE:1
CLASS:PUBLIC
END:VEVENT
END:VCALENDAR
