BEGIN:VCALENDAR
PRODID:-//kirchenweb.ch gmbh//veranstaltungsausgabe v2.0//DE
VERSION:2.0
METHOD:PUBLISH
BEGIN:VEVENT
DTSTART:20261207T123000Z
DTEND:20261207T153000Z
LOCATION:Kirchgemeindehaus Zollikon Dorf\, Rösslirain 2\, 8702 Zollikon
TRANSP:OPAQUE
SEQUENCE:0
UID:65774-veranstaltung@ref-zozu.ch
DTSTAMP:20250909T050531Z
DESCRIPTION:Kontakt: Marianne Tanner\, 044 391 99 35\n\nWeitere Infos:
  https://www.ref-zozu.ch/veranstaltung/65774
SUMMARY:Jassnachmittag
PRIORITY:5
X-MICROSOFT-CDO-IMPORTANCE:1
CLASS:PUBLIC
END:VEVENT
END:VCALENDAR
