BEGIN:VCALENDAR
PRODID:-//kirchenweb.ch gmbh//veranstaltungsausgabe v2.0//DE
VERSION:2.0
METHOD:PUBLISH
BEGIN:VEVENT
DTSTART:20260303T133000Z
DTEND:20260303T160000Z
LOCATION:Kirchgemeindehaus Zollikon\, Rösslirain 2\, 8702 Zollikon
TRANSP:OPAQUE
SEQUENCE:0
UID:65844-veranstaltung@ref-zozu.ch
DTSTAMP:20260211T134513Z
DESCRIPTION:Kontakt: Helen Rüegg\, Erwachsenensportlerin\n044 382 22 28 /
  076 525 22 28\n\nWeitere Infos:
  https://www.ref-zozu.ch/veranstaltung/65844
SUMMARY:Internationale Tänze - Tanzen\, Tanzen immer Tanzen
PRIORITY:5
X-MICROSOFT-CDO-IMPORTANCE:1
CLASS:PUBLIC
END:VEVENT
END:VCALENDAR
