BEGIN:VCALENDAR
PRODID:-//kirchenweb.ch gmbh//veranstaltungsausgabe v2.0//DE
VERSION:2.0
METHOD:PUBLISH
BEGIN:VEVENT
DTSTART:20260623T123000Z
DTEND:20260623T150000Z
LOCATION:Kirchgemeindehaus Zollikon\, Rösslirain 2\, 8702 Zollikon
TRANSP:OPAQUE
SEQUENCE:0
UID:65851-veranstaltung@ref-zozu.ch
DTSTAMP:20250926T102248Z
DESCRIPTION:Kontakt: Helen Rüegg\, Erwachsenensportlerin\n044 382 22 28 /
  076 525 22 28\n\nWeitere Infos:
  https://www.ref-zozu.ch/veranstaltung/65851
SUMMARY:Internationale Tänze - Tanzen\, Tanzen immer Tanzen
PRIORITY:5
X-MICROSOFT-CDO-IMPORTANCE:1
CLASS:PUBLIC
END:VEVENT
END:VCALENDAR
