BEGIN:VCALENDAR
PRODID:-//kirchenweb.ch gmbh//veranstaltungsausgabe v2.0//DE
VERSION:2.0
METHOD:PUBLISH
BEGIN:VEVENT
DTSTART:20260611T052000Z
DTEND:20260611T160000Z
LOCATION:Extern\, \,
TRANSP:OPAQUE
SEQUENCE:0
UID:65913-veranstaltung@ref-zozu.ch
DTSTAMP:20260126T120553Z
DESCRIPTION:Der Sommerausflug führt uns zunächst nach Luzern. Auf dem
  Schiff nach Hergiswil gibt es eine Kaffee- und Gipfeli-Pause. \nIn
  Hergiswil machen wir im Glasi -Restaurant Mittagspause\, bevor wir auf
  einem Rundgang alles über die Glasherstellung erfahren.\nDanach bleibt
  genügend Zeit zum Spazieren im Glasi-Park oder zum Einkaufen im
  Glasi-Laden. \nAnschliessend geht's mit dem Bus wieder zurück Richtung
  Zollikon-Zumikon.\nNäheres folgt zu gegebener Zeit.\n\nKontakt: Peter
  Lissa\n\nWeitere Infos: https://www.ref-zozu.ch/veranstaltung/65913
SUMMARY:60plus Ausflug "Vierwaldstättersee und Glasi Hergiswil"
PRIORITY:5
X-MICROSOFT-CDO-IMPORTANCE:1
CLASS:PUBLIC
END:VEVENT
END:VCALENDAR
