BEGIN:VCALENDAR
PRODID:-//kirchenweb.ch gmbh//veranstaltungsausgabe v2.0//DE
VERSION:2.0
METHOD:PUBLISH
BEGIN:VEVENT
DTSTART:20251120T133000Z
DTEND:20251120T160000Z
LOCATION:Gemeinschaftszentrum Zumikon\, Dorfplatz 11\, 8126 Zumikon
TRANSP:OPAQUE
SEQUENCE:0
UID:66091-veranstaltung@ref-zozu.ch
DTSTAMP:20251017T075746Z
DESCRIPTION:Kontakt: Armanda Danioth\n\nWeitere Infos:
  https://www.ref-zozu.ch/veranstaltung/66091
SUMMARY:Spielnachmittag
PRIORITY:5
X-MICROSOFT-CDO-IMPORTANCE:1
CLASS:PUBLIC
END:VEVENT
END:VCALENDAR
