BEGIN:VCALENDAR
PRODID:-//kirchenweb.ch gmbh//veranstaltungsausgabe v2.0//DE
VERSION:2.0
METHOD:PUBLISH
BEGIN:VEVENT
DTSTART:20261213T101500Z
DTEND:20261213T111500Z
LOCATION:Kirchgemeindehaus Zollikon\, Rösslirain 2\, 8702 Zollikon
TRANSP:OPAQUE
SEQUENCE:0
UID:66104-veranstaltung@ref-zozu.ch
DTSTAMP:20251023T144916Z
DESCRIPTION:Nach dem Gottesdienst anschliessend Apéro\n\nDer Bus für den
  Gottesdienst fährt um 12.45 Uhr wieder zurück.\n\nKontakt: Marianna
  Schmuki\n\nWeitere Infos: https://www.ref-zozu.ch/veranstaltung/66104
SUMMARY:Kirchgemeindeversammlung
PRIORITY:5
X-MICROSOFT-CDO-IMPORTANCE:1
CLASS:PUBLIC
END:VEVENT
END:VCALENDAR
