BEGIN:VCALENDAR
PRODID:-//kirchenweb.ch gmbh//veranstaltungsausgabe v2.0//DE
VERSION:2.0
METHOD:PUBLISH
BEGIN:VEVENT
DTSTART:20260608T173000Z
DTEND:20260608T190000Z
LOCATION:Kirchgemeindehaus Zollikerberg\, Hohfurenstr. 1\, 8125
  Zollikerberg
TRANSP:OPAQUE
SEQUENCE:0
UID:66105-veranstaltung@ref-zozu.ch
DTSTAMP:20251023T145045Z
DESCRIPTION:Anschliessend Apéro\n\nKontakt: Marianna Schmuki\n\nWeitere
  Infos: https://www.ref-zozu.ch/veranstaltung/66105
SUMMARY:Kirchgemeindeversammlung
PRIORITY:5
X-MICROSOFT-CDO-IMPORTANCE:1
CLASS:PUBLIC
END:VEVENT
END:VCALENDAR
