BEGIN:VCALENDAR
PRODID:-//kirchenweb.ch gmbh//veranstaltungsausgabe v2.0//DE
VERSION:2.0
METHOD:PUBLISH
BEGIN:VEVENT
DTSTART:20260508T130000Z
DTEND:20260508T150000Z
LOCATION:Katholisches Pfarreizentrum Zollikon\, Gustav-Maurer-Strasse 13\,
  8702 Zollikon
TRANSP:OPAQUE
SEQUENCE:0
UID:66238-veranstaltung@ref-zozu.ch
DTSTAMP:20251127T103554Z
DESCRIPTION:Kontakt: Peter Lissa\n\nWeitere Infos:
  https://www.ref-zozu.ch/veranstaltung/66238
SUMMARY:Ökumenische Kegelnachmittag
PRIORITY:5
X-MICROSOFT-CDO-IMPORTANCE:1
CLASS:PUBLIC
END:VEVENT
END:VCALENDAR
