BEGIN:VCALENDAR
PRODID:-//kirchenweb.ch gmbh//veranstaltungsausgabe v2.0//DE
VERSION:2.0
METHOD:PUBLISH
BEGIN:VEVENT
DTSTART:20260905T083000Z
DTEND:20260905T093000Z
LOCATION:Kirche Zollikon\, Rösslirain 2\, 8702 Zollikon
TRANSP:OPAQUE
SEQUENCE:0
UID:66295-veranstaltung@ref-zozu.ch
DTSTAMP:20251205T142305Z
DESCRIPTION:Kontakt: Pfarrerin Diana Päpcke\nDiana Päpcke\n\nWeitere
  Infos: https://www.ref-zozu.ch/veranstaltung/66295
SUMMARY:Fiire mit de Chliine
PRIORITY:5
X-MICROSOFT-CDO-IMPORTANCE:1
CLASS:PUBLIC
END:VEVENT
END:VCALENDAR
