BEGIN:VCALENDAR
PRODID:-//kirchenweb.ch gmbh//veranstaltungsausgabe v2.0//DE
VERSION:2.0
METHOD:PUBLISH
BEGIN:VEVENT
DTSTART:20260306T170000Z
DTEND:20260306T200000Z
LOCATION:Kirchgemeindehaus Zollikerberg\, Hohfurenstr. 1\, 8125
  Zollikerberg
TRANSP:OPAQUE
SEQUENCE:0
UID:66323-veranstaltung@ref-zozu.ch
DTSTAMP:20260219T082235Z
DESCRIPTION:Csilla Strobel Varga und Marco Leali verwöhnen Sie zusammen
  mit ihren Gästen mit beschwingten Rhythmen\, die zum Tanzen animieren.\n
 \nGeniessen Sie die Geselligkeit beim Freitags-Apéro mit live Musik (ab
  18.30 Uhr)\, allein oder mit Freunden und Bekannten\, bei einem
  Cocktail\, einen Glas Bier\, Wein oder Prosecco.\n\nIhren Hunger können
  Sie mit frisch zubereiteten Köstlichkeiten stillen.\n
 \nTisch-Reservationen nimmt das Café am Puls-Team gerne entgegen:
 \nTelefon: 077 512 62 86\nhttps://cafe.ampuls@ref-zozu.ch\n\nWir heissen
  Sie herzlich willkommen\n\nIhr Café am Puls Team\n\nKontakt:
  kettly.knoerle@ref-zozu.ch\n\nWeitere Infos:
  https://www.ref-zozu.ch/veranstaltung/66323
SUMMARY:Apéro-Time «Let's Dance - Csilla & Friends»
PRIORITY:5
X-MICROSOFT-CDO-IMPORTANCE:1
CLASS:PUBLIC
END:VEVENT
END:VCALENDAR
