BEGIN:VCALENDAR
PRODID:-//kirchenweb.ch gmbh//veranstaltungsausgabe v2.0//DE
VERSION:2.0
METHOD:PUBLISH
BEGIN:VEVENT
DTSTART:20260508T160000Z
DTEND:20260508T190000Z
LOCATION:Kirchgemeindehaus Zollikerberg\, Hohfurenstr. 1\, 8125
  Zollikerberg
TRANSP:OPAQUE
SEQUENCE:0
UID:66392-veranstaltung@ref-zozu.ch
DTSTAMP:20260331T102852Z
DESCRIPTION:Freuen Sie sich auf beschwingte Jazz-Rhythmen mit Hans Ueli
  Schlaepfer (Piano)\, Felix Kübler (Bass) und Pascal Graf (Drums).\n
 \nGeniessen Sie die Geselligkeit beim Freitags-Apéro mit live Musik (ab
  18.30 Uhr)\, allein oder mit Freunden und Bekannten\, bei einem
  Cocktail\, einen Glas Bier\, Wein oder Prosecco.\n\nIhren Hunger können
  Sie mit frisch zubereiteten Köstlichkeiten stillen.\n
 \nTisch-Reservationen nimmt das Café am Puls-Team gerne entgegen:
 \nTelefon: 077 512 62 86\nhttps://cafe.ampuls@ref-zozu.ch\n\nWir heissen
  Sie herzlich willkommen\n\nIhr Café am Puls Team\n\nKontakt:
  kettly.knoerle@ref-zozu.ch\n\nWeitere Infos:
  https://www.ref-zozu.ch/veranstaltung/66392
SUMMARY:Apéro-Time «Swinging Jazz»
PRIORITY:5
X-MICROSOFT-CDO-IMPORTANCE:1
CLASS:PUBLIC
END:VEVENT
END:VCALENDAR
