BEGIN:VCALENDAR
PRODID:-//kirchenweb.ch gmbh//veranstaltungsausgabe v2.0//DE
VERSION:2.0
METHOD:PUBLISH
BEGIN:VEVENT
DTSTART:20261223T083000Z
DTEND:20261223T100000Z
LOCATION:Kirche Zollikon\, Rösslirain 2\, 8702 Zollikon
TRANSP:OPAQUE
SEQUENCE:0
UID:66581-veranstaltung@ref-zozu.ch
DTSTAMP:20260308T170759Z
DESCRIPTION:Kontakt: Jennifer Rota\n\nWeitere Infos:
  https://www.ref-zozu.ch/veranstaltung/66581
SUMMARY:Hauptprobe Weihnachtsspiel
PRIORITY:5
X-MICROSOFT-CDO-IMPORTANCE:1
CLASS:PUBLIC
END:VEVENT
END:VCALENDAR
