BEGIN:VCALENDAR
PRODID:-//kirchenweb.ch gmbh//veranstaltungsausgabe v2.0//DE
VERSION:2.0
METHOD:PUBLISH
BEGIN:VEVENT
DTSTART:20260818T160000Z
DTEND:20260818T173000Z
LOCATION:Café am Puls\, Hohfurenstr. 1\, 8125 Zollikerberg
TRANSP:OPAQUE
SEQUENCE:0
UID:66605-veranstaltung@ref-zozu.ch
DTSTAMP:20260319T151203Z
DESCRIPTION:Kontakt: Simon Gebs\n\nWeitere Infos:
  https://www.ref-zozu.ch/veranstaltung/66605
SUMMARY:Trauer-Café
PRIORITY:5
X-MICROSOFT-CDO-IMPORTANCE:1
CLASS:PUBLIC
END:VEVENT
END:VCALENDAR
