BEGIN:VCALENDAR
PRODID:-//kirchenweb.ch gmbh//veranstaltungsausgabe v2.0//DE
VERSION:2.0
METHOD:PUBLISH
BEGIN:VEVENT
DTSTART:20261127T181500Z
DTEND:20261127T210000Z
LOCATION:Kirche Zollikon\, Rösslirain 2\, 8702 Zollikon
TRANSP:OPAQUE
SEQUENCE:0
UID:66623-veranstaltung@ref-zozu.ch
DTSTAMP:20260319T161812Z
DESCRIPTION:Kontakt: Jasmine Vollmer\n\nWeitere Infos:
  https://www.ref-zozu.ch/veranstaltung/66623
SUMMARY:Generalprobe Advents-Chorprojekt
PRIORITY:5
X-MICROSOFT-CDO-IMPORTANCE:1
CLASS:PUBLIC
END:VEVENT
END:VCALENDAR
