BEGIN:VCALENDAR
PRODID:-//kirchenweb.ch gmbh//veranstaltungsausgabe v2.0//DE
VERSION:2.0
METHOD:PUBLISH
BEGIN:VEVENT
DTSTART:20270210T110000Z
DTEND:20270210T133000Z
LOCATION:Kirchgemeindehaus Zollikerberg\, Hohfurenstr. 1\, 8125
  Zollikerberg
TRANSP:OPAQUE
SEQUENCE:0
UID:66631-veranstaltung@ref-zozu.ch
DTSTAMP:20260326T171640Z
DESCRIPTION:Kontakt: Gaby Schibler\n\nWeitere Infos:
  https://www.ref-zozu.ch/veranstaltung/66631
SUMMARY:minichile_Berg
PRIORITY:5
X-MICROSOFT-CDO-IMPORTANCE:1
CLASS:PUBLIC
END:VEVENT
END:VCALENDAR
